BEGIN:VCALENDAR
VERSION:2.0
PRODID:-//WINDERMERE - ECPv6.15.20//NONSGML v1.0//EN
CALSCALE:GREGORIAN
METHOD:PUBLISH
X-WR-CALNAME:WINDERMERE
X-ORIGINAL-URL:https://windermere20852.com
X-WR-CALDESC:Events for WINDERMERE
REFRESH-INTERVAL;VALUE=DURATION:PT1H
X-Robots-Tag:noindex
X-PUBLISHED-TTL:PT1H
BEGIN:VTIMEZONE
TZID:America/New_York
BEGIN:DAYLIGHT
TZOFFSETFROM:-0500
TZOFFSETTO:-0400
TZNAME:EDT
DTSTART:20240310T070000
END:DAYLIGHT
BEGIN:STANDARD
TZOFFSETFROM:-0400
TZOFFSETTO:-0500
TZNAME:EST
DTSTART:20241103T060000
END:STANDARD
BEGIN:DAYLIGHT
TZOFFSETFROM:-0500
TZOFFSETTO:-0400
TZNAME:EDT
DTSTART:20250309T070000
END:DAYLIGHT
BEGIN:STANDARD
TZOFFSETFROM:-0400
TZOFFSETTO:-0500
TZNAME:EST
DTSTART:20251102T060000
END:STANDARD
BEGIN:DAYLIGHT
TZOFFSETFROM:-0500
TZOFFSETTO:-0400
TZNAME:EDT
DTSTART:20260308T070000
END:DAYLIGHT
BEGIN:STANDARD
TZOFFSETFROM:-0400
TZOFFSETTO:-0500
TZNAME:EST
DTSTART:20261101T060000
END:STANDARD
END:VTIMEZONE
BEGIN:VEVENT
DTSTART;VALUE=DATE:20250609
DTEND;VALUE=DATE:20250610
DTSTAMP:20260425T075910
CREATED:20250605T191045Z
LAST-MODIFIED:20250605T191045Z
UID:2052-1749427200-1749513599@windermere20852.com
SUMMARY:Community Room Reserved
DESCRIPTION:The community room is reserved today!
URL:https://windermere20852.com/event/community-room-reserved-205/
LOCATION:Community Room\, 6360 Windermere Circle\, North Bethesda\, MD\, 20852\, United States
CATEGORIES:Community Room Reservation
END:VEVENT
BEGIN:VEVENT
DTSTART;VALUE=DATE:20250621
DTEND;VALUE=DATE:20250622
DTSTAMP:20260425T075910
CREATED:20250527T214022Z
LAST-MODIFIED:20250527T214022Z
UID:2045-1750464000-1750550399@windermere20852.com
SUMMARY:Community Room Reserved
DESCRIPTION:The community room is reserved today!
URL:https://windermere20852.com/event/community-room-reserved-202/
LOCATION:Community Room\, 6360 Windermere Circle\, North Bethesda\, MD\, 20852\, United States
CATEGORIES:Community Room Reservation
END:VEVENT
BEGIN:VEVENT
DTSTART;VALUE=DATE:20250622
DTEND;VALUE=DATE:20250623
DTSTAMP:20260425T075910
CREATED:20250527T214038Z
LAST-MODIFIED:20250527T214038Z
UID:2047-1750550400-1750636799@windermere20852.com
SUMMARY:Community Room Reserved
DESCRIPTION:The community room is reserved today!
URL:https://windermere20852.com/event/community-room-reserved-203/
LOCATION:Community Room\, 6360 Windermere Circle\, North Bethesda\, MD\, 20852\, United States
CATEGORIES:Community Room Reservation
END:VEVENT
BEGIN:VEVENT
DTSTART;VALUE=DATE:20250625
DTEND;VALUE=DATE:20250626
DTSTAMP:20260425T075910
CREATED:20250529T211426Z
LAST-MODIFIED:20250623T145708Z
UID:2049-1750809600-1750895999@windermere20852.com
SUMMARY:Community Room Reserved
DESCRIPTION:The community room is reserved today!
URL:https://windermere20852.com/event/community-room-reserved-204/
LOCATION:Community Room\, 6360 Windermere Circle\, North Bethesda\, MD\, 20852\, United States
CATEGORIES:Community Room Reservation
END:VEVENT
BEGIN:VEVENT
DTSTART;TZID=America/New_York:20250710T193000
DTEND;TZID=America/New_York:20250710T210000
DTSTAMP:20260425T075910
CREATED:20241108T154208Z
LAST-MODIFIED:20241108T154208Z
UID:1889-1752175800-1752181200@windermere20852.com
SUMMARY:Board of Directors Meeting
DESCRIPTION:Details on how to participate in this meeting can be found in the Owner’s Portal.
URL:https://windermere20852.com/event/board-of-directors-meeting-9/
CATEGORIES:Board of Directors Meeting
END:VEVENT
BEGIN:VEVENT
DTSTART;VALUE=DATE:20250711
DTEND;VALUE=DATE:20250712
DTSTAMP:20260425T075910
CREATED:20250710T212805Z
LAST-MODIFIED:20250710T212805Z
UID:2065-1752192000-1752278399@windermere20852.com
SUMMARY:Community Room Reserved
DESCRIPTION:The community room is reserved today!
URL:https://windermere20852.com/event/community-room-reserved-209/
LOCATION:Community Room\, 6360 Windermere Circle\, North Bethesda\, MD\, 20852\, United States
CATEGORIES:Community Room Reservation
END:VEVENT
BEGIN:VEVENT
DTSTART;VALUE=DATE:20250712
DTEND;VALUE=DATE:20250713
DTSTAMP:20260425T075910
CREATED:20250710T135205Z
LAST-MODIFIED:20250710T135205Z
UID:2060-1752278400-1752364799@windermere20852.com
SUMMARY:Community Room Reserved
DESCRIPTION:The community room is reserved today!
URL:https://windermere20852.com/event/community-room-reserved-208/
LOCATION:Community Room\, 6360 Windermere Circle\, North Bethesda\, MD\, 20852\, United States
CATEGORIES:Community Room Reservation
END:VEVENT
BEGIN:VEVENT
DTSTART;VALUE=DATE:20250719
DTEND;VALUE=DATE:20250720
DTSTAMP:20260425T075910
CREATED:20250407T172002Z
LAST-MODIFIED:20250407T172002Z
UID:1981-1752883200-1752969599@windermere20852.com
SUMMARY:Community Room Reserved
DESCRIPTION:The community room is reserved today!
URL:https://windermere20852.com/event/community-room-reserved-192/
LOCATION:Community Room\, 6360 Windermere Circle\, North Bethesda\, MD\, 20852\, United States
CATEGORIES:Community Room Reservation
END:VEVENT
BEGIN:VEVENT
DTSTART;VALUE=DATE:20250720
DTEND;VALUE=DATE:20250721
DTSTAMP:20260425T075910
CREATED:20250407T172017Z
LAST-MODIFIED:20250407T172017Z
UID:1983-1752969600-1753055999@windermere20852.com
SUMMARY:Community Room Reserved
DESCRIPTION:The community room is reserved today!
URL:https://windermere20852.com/event/community-room-reserved-193/
LOCATION:Community Room\, 6360 Windermere Circle\, North Bethesda\, MD\, 20852\, United States
CATEGORIES:Community Room Reservation
END:VEVENT
BEGIN:VEVENT
DTSTART;VALUE=DATE:20250726
DTEND;VALUE=DATE:20250727
DTSTAMP:20260425T075910
CREATED:20250522T152559Z
LAST-MODIFIED:20250522T152559Z
UID:2028-1753488000-1753574399@windermere20852.com
SUMMARY:Community Room Reserved
DESCRIPTION:The community room is reserved today!
URL:https://windermere20852.com/event/community-room-reserved-200/
LOCATION:Community Room\, 6360 Windermere Circle\, North Bethesda\, MD\, 20852\, United States
CATEGORIES:Community Room Reservation
END:VEVENT
BEGIN:VEVENT
DTSTART;VALUE=DATE:20250727
DTEND;VALUE=DATE:20250728
DTSTAMP:20260425T075910
CREATED:20250605T191101Z
LAST-MODIFIED:20250605T191101Z
UID:2054-1753574400-1753660799@windermere20852.com
SUMMARY:Community Room Reserved
DESCRIPTION:The community room is reserved today!
URL:https://windermere20852.com/event/community-room-reserved-206/
LOCATION:Community Room\, 6360 Windermere Circle\, North Bethesda\, MD\, 20852\, United States
CATEGORIES:Community Room Reservation
END:VEVENT
BEGIN:VEVENT
DTSTART;TZID=America/New_York:20250803T070000
DTEND;TZID=America/New_York:20250803T170000
DTSTAMP:20260425T075910
CREATED:20250527T160805Z
LAST-MODIFIED:20250728T140505Z
UID:2031-1754204400-1754240400@windermere20852.com
SUMMARY:4th Annual Windermere Triathlon
DESCRIPTION:Sunday 8/3/25 at 10am \nMeet at the Windermere Clubhouse at 9:45 for a 10 am start \nClick here for more information!
URL:https://windermere20852.com/event/4th-annual-windermere-triathlon/
CATEGORIES:General Event
END:VEVENT
BEGIN:VEVENT
DTSTART;VALUE=DATE:20250809
DTEND;VALUE=DATE:20250810
DTSTAMP:20260425T075910
CREATED:20250801T120651Z
LAST-MODIFIED:20250801T120651Z
UID:2070-1754697600-1754783999@windermere20852.com
SUMMARY:Community Room Reserved
DESCRIPTION:The community room is reserved today!
URL:https://windermere20852.com/event/community-room-reserved-211/
LOCATION:Community Room\, 6360 Windermere Circle\, North Bethesda\, MD\, 20852\, United States
CATEGORIES:Community Room Reservation
END:VEVENT
BEGIN:VEVENT
DTSTART;VALUE=DATE:20250810
DTEND;VALUE=DATE:20250811
DTSTAMP:20260425T075910
CREATED:20250715T132652Z
LAST-MODIFIED:20250715T132652Z
UID:2067-1754784000-1754870399@windermere20852.com
SUMMARY:Community Room Reserved
DESCRIPTION:The community room is reserved today!
URL:https://windermere20852.com/event/community-room-reserved-210/
LOCATION:Community Room\, 6360 Windermere Circle\, North Bethesda\, MD\, 20852\, United States
CATEGORIES:Community Room Reservation
END:VEVENT
BEGIN:VEVENT
DTSTART;VALUE=DATE:20250822
DTEND;VALUE=DATE:20250823
DTSTAMP:20260425T075910
CREATED:20250801T175311Z
LAST-MODIFIED:20250805T114045Z
UID:2074-1755820800-1755907199@windermere20852.com
SUMMARY:Community Room Reserved
DESCRIPTION:The community room is reserved today!
URL:https://windermere20852.com/event/community-room-reserved-212/
LOCATION:Community Room\, 6360 Windermere Circle\, North Bethesda\, MD\, 20852\, United States
CATEGORIES:Community Room Reservation
END:VEVENT
BEGIN:VEVENT
DTSTART;VALUE=DATE:20250823
DTEND;VALUE=DATE:20250824
DTSTAMP:20260425T075910
CREATED:20250811T132948Z
LAST-MODIFIED:20250811T132948Z
UID:2077-1755907200-1755993599@windermere20852.com
SUMMARY:Community Room Reserved
DESCRIPTION:The community room is reserved today!
URL:https://windermere20852.com/event/community-room-reserved-213/
LOCATION:Community Room\, 6360 Windermere Circle\, North Bethesda\, MD\, 20852\, United States
CATEGORIES:Community Room Reservation
END:VEVENT
BEGIN:VEVENT
DTSTART;VALUE=DATE:20250824
DTEND;VALUE=DATE:20250825
DTSTAMP:20260425T075910
CREATED:20250624T183447Z
LAST-MODIFIED:20250715T132903Z
UID:2057-1755993600-1756079999@windermere20852.com
SUMMARY:Community Room Reserved
DESCRIPTION:The community room is reserved today!
URL:https://windermere20852.com/event/community-room-reserved-207/
LOCATION:Community Room\, 6360 Windermere Circle\, North Bethesda\, MD\, 20852\, United States
CATEGORIES:Community Room Reservation
END:VEVENT
BEGIN:VEVENT
DTSTART;TZID=America/New_York:20250904T193000
DTEND;TZID=America/New_York:20250904T210000
DTSTAMP:20260425T075910
CREATED:20241108T154223Z
LAST-MODIFIED:20241108T154223Z
UID:1891-1757014200-1757019600@windermere20852.com
SUMMARY:Board of Directors Meeting
DESCRIPTION:Details on how to participate in this meeting can be found in the Owner’s Portal.
URL:https://windermere20852.com/event/board-of-directors-meeting-10/
CATEGORIES:Board of Directors Meeting
END:VEVENT
BEGIN:VEVENT
DTSTART;VALUE=DATE:20250913
DTEND;VALUE=DATE:20250914
DTSTAMP:20260425T075910
CREATED:20250905T205514Z
LAST-MODIFIED:20250905T205514Z
UID:2086-1757721600-1757807999@windermere20852.com
SUMMARY:Community Room Reserved
DESCRIPTION:The community room is reserved today!
URL:https://windermere20852.com/event/community-room-reserved-214/
LOCATION:Community Room\, 6360 Windermere Circle\, North Bethesda\, MD\, 20852\, United States
CATEGORIES:Community Room Reservation
END:VEVENT
BEGIN:VEVENT
DTSTART;VALUE=DATE:20251004
DTEND;VALUE=DATE:20251005
DTSTAMP:20260425T075910
CREATED:20250915T182728Z
LAST-MODIFIED:20250915T182728Z
UID:2103-1759536000-1759622399@windermere20852.com
SUMMARY:Community Room Reserved
DESCRIPTION:The community room is reserved today!
URL:https://windermere20852.com/event/community-room-reserved-222/
LOCATION:Community Room\, 6360 Windermere Circle\, North Bethesda\, MD\, 20852\, United States
CATEGORIES:Community Room Reservation
END:VEVENT
BEGIN:VEVENT
DTSTART;VALUE=DATE:20251025
DTEND;VALUE=DATE:20251026
DTSTAMP:20260425T075910
CREATED:20250912T210211Z
LAST-MODIFIED:20250912T210211Z
UID:2088-1761350400-1761436799@windermere20852.com
SUMMARY:Community Room Reserved
DESCRIPTION:The community room is reserved today!
URL:https://windermere20852.com/event/community-room-reserved-215/
LOCATION:Community Room\, 6360 Windermere Circle\, North Bethesda\, MD\, 20852\, United States
CATEGORIES:Community Room Reservation
END:VEVENT
BEGIN:VEVENT
DTSTART;VALUE=DATE:20251026
DTEND;VALUE=DATE:20251027
DTSTAMP:20260425T075910
CREATED:20250912T210229Z
LAST-MODIFIED:20250912T210229Z
UID:2090-1761436800-1761523199@windermere20852.com
SUMMARY:Community Room Reserved
DESCRIPTION:The community room is reserved today!
URL:https://windermere20852.com/event/community-room-reserved-216/
LOCATION:Community Room\, 6360 Windermere Circle\, North Bethesda\, MD\, 20852\, United States
CATEGORIES:Community Room Reservation
END:VEVENT
BEGIN:VEVENT
DTSTART;VALUE=DATE:20251108
DTEND;VALUE=DATE:20251109
DTSTAMP:20260425T075910
CREATED:20251008T153052Z
LAST-MODIFIED:20251008T153052Z
UID:2112-1762560000-1762646399@windermere20852.com
SUMMARY:Community Room Reserved
DESCRIPTION:The community room is reserved today!
URL:https://windermere20852.com/event/community-room-reserved-224/
LOCATION:Community Room\, 6360 Windermere Circle\, North Bethesda\, MD\, 20852\, United States
CATEGORIES:Community Room Reservation
END:VEVENT
BEGIN:VEVENT
DTSTART;VALUE=DATE:20251109
DTEND;VALUE=DATE:20251110
DTSTAMP:20260425T075910
CREATED:20251014T123950Z
LAST-MODIFIED:20251014T123950Z
UID:2134-1762646400-1762732799@windermere20852.com
SUMMARY:Community Room Reserved
DESCRIPTION:The community room is reserved today!
URL:https://windermere20852.com/event/community-room-reserved-227/
LOCATION:Community Room\, 6360 Windermere Circle\, North Bethesda\, MD\, 20852\, United States
CATEGORIES:Community Room Reservation
END:VEVENT
BEGIN:VEVENT
DTSTART;VALUE=DATE:20251115
DTEND;VALUE=DATE:20251116
DTSTAMP:20260425T075910
CREATED:20250915T181646Z
LAST-MODIFIED:20250915T181646Z
UID:2101-1763164800-1763251199@windermere20852.com
SUMMARY:Community Room Reserved
DESCRIPTION:The community room is reserved today!
URL:https://windermere20852.com/event/community-room-reserved-221/
LOCATION:Community Room\, 6360 Windermere Circle\, North Bethesda\, MD\, 20852\, United States
CATEGORIES:Community Room Reservation
END:VEVENT
BEGIN:VEVENT
DTSTART;VALUE=DATE:20251116
DTEND;VALUE=DATE:20251117
DTSTAMP:20260425T075910
CREATED:20251013T130143Z
LAST-MODIFIED:20251013T130143Z
UID:2130-1763251200-1763337599@windermere20852.com
SUMMARY:Community Room Reserved
DESCRIPTION:The community room is reserved today!
URL:https://windermere20852.com/event/community-room-reserved-225/
LOCATION:Community Room\, 6360 Windermere Circle\, North Bethesda\, MD\, 20852\, United States
CATEGORIES:Community Room Reservation
END:VEVENT
BEGIN:VEVENT
DTSTART;TZID=America/New_York:20251119T193000
DTEND;TZID=America/New_York:20251119T210000
DTSTAMP:20260425T075910
CREATED:20241108T154236Z
LAST-MODIFIED:20251010T145656Z
UID:1893-1763580600-1763586000@windermere20852.com
SUMMARY:Board of Directors Meeting
DESCRIPTION:Details on how to participate in this meeting can be found in the Owner’s Portal.
URL:https://windermere20852.com/event/board-of-directors-meeting-11/
CATEGORIES:Board of Directors Meeting
END:VEVENT
BEGIN:VEVENT
DTSTART;VALUE=DATE:20251123
DTEND;VALUE=DATE:20251124
DTSTAMP:20260425T075910
CREATED:20250915T143713Z
LAST-MODIFIED:20250915T143713Z
UID:2093-1763856000-1763942399@windermere20852.com
SUMMARY:Community Room Reserved
DESCRIPTION:The community room is reserved today!
URL:https://windermere20852.com/event/community-room-reserved-217/
LOCATION:Community Room\, 6360 Windermere Circle\, North Bethesda\, MD\, 20852\, United States
CATEGORIES:Community Room Reservation
END:VEVENT
BEGIN:VEVENT
DTSTART;VALUE=DATE:20251205
DTEND;VALUE=DATE:20251206
DTSTAMP:20260425T075910
CREATED:20251118T125501Z
LAST-MODIFIED:20251118T125501Z
UID:2144-1764892800-1764979199@windermere20852.com
SUMMARY:Community Room Reserved
DESCRIPTION:The community room is reserved today!
URL:https://windermere20852.com/event/community-room-reserved-229/
LOCATION:Community Room\, 6360 Windermere Circle\, North Bethesda\, MD\, 20852\, United States
CATEGORIES:Community Room Reservation
END:VEVENT
BEGIN:VEVENT
DTSTART;VALUE=DATE:20251206
DTEND;VALUE=DATE:20251207
DTSTAMP:20260425T075910
CREATED:20250915T143800Z
LAST-MODIFIED:20250915T143800Z
UID:2097-1764979200-1765065599@windermere20852.com
SUMMARY:Community Room Reserved
DESCRIPTION:The community room is reserved today!
URL:https://windermere20852.com/event/community-room-reserved-219/
LOCATION:Community Room\, 6360 Windermere Circle\, North Bethesda\, MD\, 20852\, United States
CATEGORIES:Community Room Reservation
END:VEVENT
END:VCALENDAR