BEGIN:VCALENDAR
VERSION:2.0
PRODID:-//WINDERMERE - ECPv6.15.20//NONSGML v1.0//EN
CALSCALE:GREGORIAN
METHOD:PUBLISH
X-WR-CALNAME:WINDERMERE
X-ORIGINAL-URL:https://windermere20852.com
X-WR-CALDESC:Events for WINDERMERE
REFRESH-INTERVAL;VALUE=DURATION:PT1H
X-Robots-Tag:noindex
X-PUBLISHED-TTL:PT1H
BEGIN:VTIMEZONE
TZID:America/New_York
BEGIN:DAYLIGHT
TZOFFSETFROM:-0500
TZOFFSETTO:-0400
TZNAME:EDT
DTSTART:20230312T070000
END:DAYLIGHT
BEGIN:STANDARD
TZOFFSETFROM:-0400
TZOFFSETTO:-0500
TZNAME:EST
DTSTART:20231105T060000
END:STANDARD
BEGIN:DAYLIGHT
TZOFFSETFROM:-0500
TZOFFSETTO:-0400
TZNAME:EDT
DTSTART:20240310T070000
END:DAYLIGHT
BEGIN:STANDARD
TZOFFSETFROM:-0400
TZOFFSETTO:-0500
TZNAME:EST
DTSTART:20241103T060000
END:STANDARD
BEGIN:DAYLIGHT
TZOFFSETFROM:-0500
TZOFFSETTO:-0400
TZNAME:EDT
DTSTART:20250309T070000
END:DAYLIGHT
BEGIN:STANDARD
TZOFFSETFROM:-0400
TZOFFSETTO:-0500
TZNAME:EST
DTSTART:20251102T060000
END:STANDARD
END:VTIMEZONE
BEGIN:VEVENT
DTSTART;VALUE=DATE:20240526
DTEND;VALUE=DATE:20240527
DTSTAMP:20260425T231046
CREATED:20240501T140702Z
LAST-MODIFIED:20240501T140702Z
UID:1728-1716681600-1716767999@windermere20852.com
SUMMARY:Community Room Reserved
DESCRIPTION:The community room is reserved today!
URL:https://windermere20852.com/event/community-room-reserved-128/
LOCATION:Community Room\, 6360 Windermere Circle\, North Bethesda\, MD\, 20852\, United States
CATEGORIES:Community Room Reservation
END:VEVENT
BEGIN:VEVENT
DTSTART;VALUE=DATE:20240525
DTEND;VALUE=DATE:20240526
DTSTAMP:20260425T231046
CREATED:20240501T140649Z
LAST-MODIFIED:20240501T140649Z
UID:1726-1716595200-1716681599@windermere20852.com
SUMMARY:Community Room Reserved
DESCRIPTION:The community room is reserved today!
URL:https://windermere20852.com/event/community-room-reserved-127/
LOCATION:Community Room\, 6360 Windermere Circle\, North Bethesda\, MD\, 20852\, United States
CATEGORIES:Community Room Reservation
END:VEVENT
BEGIN:VEVENT
DTSTART;VALUE=DATE:20240519
DTEND;VALUE=DATE:20240520
DTSTAMP:20260425T231046
CREATED:20240311T202243Z
LAST-MODIFIED:20240311T202243Z
UID:1679-1716076800-1716163199@windermere20852.com
SUMMARY:Community Room Reserved
DESCRIPTION:The community room is reserved today!
URL:https://windermere20852.com/event/community-room-reserved-113/
LOCATION:Community Room\, 6360 Windermere Circle\, North Bethesda\, MD\, 20852\, United States
CATEGORIES:Community Room Reservation
END:VEVENT
BEGIN:VEVENT
DTSTART;VALUE=DATE:20240518
DTEND;VALUE=DATE:20240519
DTSTAMP:20260425T231046
CREATED:20240517T130401Z
LAST-MODIFIED:20240517T130401Z
UID:1742-1715990400-1716076799@windermere20852.com
SUMMARY:Community Room Reserved
DESCRIPTION:The community room is reserved today!
URL:https://windermere20852.com/event/community-room-reserved-130/
LOCATION:Community Room\, 6360 Windermere Circle\, North Bethesda\, MD\, 20852\, United States
CATEGORIES:Community Room Reservation
END:VEVENT
BEGIN:VEVENT
DTSTART;VALUE=DATE:20240517
DTEND;VALUE=DATE:20240518
DTSTAMP:20260425T231046
CREATED:20240412T205611Z
LAST-MODIFIED:20240412T205611Z
UID:1692-1715904000-1715990399@windermere20852.com
SUMMARY:Community Room Reserved
DESCRIPTION:The community room is reserved today!
URL:https://windermere20852.com/event/community-room-reserved-117/
LOCATION:Community Room\, 6360 Windermere Circle\, North Bethesda\, MD\, 20852\, United States
CATEGORIES:Community Room Reservation
END:VEVENT
BEGIN:VEVENT
DTSTART;TZID=America/New_York:20240516T193000
DTEND;TZID=America/New_York:20240516T210000
DTSTAMP:20260425T231046
CREATED:20231228T192743Z
LAST-MODIFIED:20231228T192743Z
UID:1569-1715887800-1715893200@windermere20852.com
SUMMARY:Annual Meeting
DESCRIPTION:Details on how to participate in this meeting can be found in the Owner’s Portal.
URL:https://windermere20852.com/event/annual-meeting-3/
LOCATION:MD
CATEGORIES:Board of Directors Meeting
END:VEVENT
BEGIN:VEVENT
DTSTART;VALUE=DATE:20240508
DTEND;VALUE=DATE:20240509
DTSTAMP:20260425T231046
CREATED:20240501T130441Z
LAST-MODIFIED:20240501T130441Z
UID:1724-1715126400-1715212799@windermere20852.com
SUMMARY:Community Room Reserved
DESCRIPTION:The community room is reserved today!
URL:https://windermere20852.com/event/community-room-reserved-126/
LOCATION:Community Room\, 6360 Windermere Circle\, North Bethesda\, MD\, 20852\, United States
CATEGORIES:Community Room Reservation
END:VEVENT
BEGIN:VEVENT
DTSTART;VALUE=DATE:20240505
DTEND;VALUE=DATE:20240506
DTSTAMP:20260425T231046
CREATED:20240311T202217Z
LAST-MODIFIED:20240311T202217Z
UID:1677-1714867200-1714953599@windermere20852.com
SUMMARY:Community Room Reserved
DESCRIPTION:The community room is reserved today!
URL:https://windermere20852.com/event/community-room-reserved-112/
LOCATION:Community Room\, 6360 Windermere Circle\, North Bethesda\, MD\, 20852\, United States
CATEGORIES:Community Room Reservation
END:VEVENT
BEGIN:VEVENT
DTSTART;VALUE=DATE:20240503
DTEND;VALUE=DATE:20240504
DTSTAMP:20260425T231046
CREATED:20240424T193721Z
LAST-MODIFIED:20240424T193721Z
UID:1708-1714694400-1714780799@windermere20852.com
SUMMARY:Community Room Reserved
DESCRIPTION:The community room is reserved today!
URL:https://windermere20852.com/event/community-room-reserved-121/
LOCATION:Community Room\, 6360 Windermere Circle\, North Bethesda\, MD\, 20852\, United States
CATEGORIES:Community Room Reservation
END:VEVENT
BEGIN:VEVENT
DTSTART;VALUE=DATE:20240428
DTEND;VALUE=DATE:20240429
DTSTAMP:20260425T231046
CREATED:20240415T172412Z
LAST-MODIFIED:20240415T172412Z
UID:1695-1714262400-1714348799@windermere20852.com
SUMMARY:Community Room Reserved
DESCRIPTION:The community room is reserved today!
URL:https://windermere20852.com/event/community-room-reserved-118/
LOCATION:Community Room\, 6360 Windermere Circle\, North Bethesda\, MD\, 20852\, United States
CATEGORIES:Community Room Reservation
END:VEVENT
BEGIN:VEVENT
DTSTART;VALUE=DATE:20240420
DTEND;VALUE=DATE:20240421
DTSTAMP:20260425T231046
CREATED:20240311T195605Z
LAST-MODIFIED:20240311T195605Z
UID:1675-1713571200-1713657599@windermere20852.com
SUMMARY:Community Room Reserved
DESCRIPTION:The community room is reserved today!
URL:https://windermere20852.com/event/community-room-reserved-111/
LOCATION:Community Room\, 6360 Windermere Circle\, North Bethesda\, MD\, 20852\, United States
CATEGORIES:Community Room Reservation
END:VEVENT
BEGIN:VEVENT
DTSTART;TZID=America/New_York:20240418T193000
DTEND;TZID=America/New_York:20240418T210000
DTSTAMP:20260425T231046
CREATED:20231228T192708Z
LAST-MODIFIED:20231228T192708Z
UID:1567-1713468600-1713474000@windermere20852.com
SUMMARY:Board of Directors Meeting
DESCRIPTION:Details on how to participate in this meeting can be found in the Owner’s Portal.
URL:https://windermere20852.com/event/board-of-directors-meeting-2/
LOCATION:MD
CATEGORIES:Board of Directors Meeting
END:VEVENT
BEGIN:VEVENT
DTSTART;VALUE=DATE:20240404
DTEND;VALUE=DATE:20240405
DTSTAMP:20260425T231046
CREATED:20240402T152731Z
LAST-MODIFIED:20240402T152731Z
UID:1687-1712188800-1712275199@windermere20852.com
SUMMARY:Community Room Reserved
DESCRIPTION:The community room is reserved today!
URL:https://windermere20852.com/event/community-room-reserved-115/
LOCATION:Community Room\, 6360 Windermere Circle\, North Bethesda\, MD\, 20852\, United States
CATEGORIES:Community Room Reservation
END:VEVENT
BEGIN:VEVENT
DTSTART;VALUE=DATE:20240403
DTEND;VALUE=DATE:20240404
DTSTAMP:20260425T231046
CREATED:20240402T153006Z
LAST-MODIFIED:20240402T153006Z
UID:1689-1712102400-1712188799@windermere20852.com
SUMMARY:Community Room Reserved
DESCRIPTION:The community room is reserved today!
URL:https://windermere20852.com/event/community-room-reserved-116/
LOCATION:Community Room\, 6360 Windermere Circle\, North Bethesda\, MD\, 20852\, United States
CATEGORIES:Community Room Reservation
END:VEVENT
BEGIN:VEVENT
DTSTART;VALUE=DATE:20240331
DTEND;VALUE=DATE:20240401
DTSTAMP:20260425T231046
CREATED:20240304T165020Z
LAST-MODIFIED:20240304T165020Z
UID:1671-1711843200-1711929599@windermere20852.com
SUMMARY:Community Room Reserved
DESCRIPTION:The community room is reserved today!
URL:https://windermere20852.com/event/community-room-reserved-109/
LOCATION:Community Room\, 6360 Windermere Circle\, North Bethesda\, MD\, 20852\, United States
CATEGORIES:Community Room Reservation
END:VEVENT
BEGIN:VEVENT
DTSTART;VALUE=DATE:20240330
DTEND;VALUE=DATE:20240331
DTSTAMP:20260425T231046
CREATED:20240213T211852Z
LAST-MODIFIED:20240213T211852Z
UID:1621-1711756800-1711843199@windermere20852.com
SUMMARY:Community Room Reserved
DESCRIPTION:The community room is reserved today!
URL:https://windermere20852.com/event/community-room-reserved-104/
LOCATION:Community Room\, 6360 Windermere Circle\, North Bethesda\, MD\, 20852\, United States
CATEGORIES:Community Room Reservation
END:VEVENT
BEGIN:VEVENT
DTSTART;VALUE=DATE:20240316
DTEND;VALUE=DATE:20240317
DTSTAMP:20260425T231046
CREATED:20231122T141048Z
LAST-MODIFIED:20231122T141048Z
UID:1521-1710547200-1710633599@windermere20852.com
SUMMARY:Community Room Reserved
DESCRIPTION:The community room is reserved today!
URL:https://windermere20852.com/event/community-room-reserved-90/
LOCATION:Community Room\, 6360 Windermere Circle\, North Bethesda\, MD\, 20852\, United States
CATEGORIES:Community Room Reservation
END:VEVENT
BEGIN:VEVENT
DTSTART;VALUE=DATE:20240315
DTEND;VALUE=DATE:20240316
DTSTAMP:20260425T231046
CREATED:20240226T201841Z
LAST-MODIFIED:20240226T201841Z
UID:1666-1710460800-1710547199@windermere20852.com
SUMMARY:Community Room Reserved
DESCRIPTION:The community room is reserved today!
URL:https://windermere20852.com/event/community-room-reserved-107/
LOCATION:Community Room\, 6360 Windermere Circle\, North Bethesda\, MD\, 20852\, United States
CATEGORIES:Community Room Reservation
END:VEVENT
BEGIN:VEVENT
DTSTART;VALUE=DATE:20240313
DTEND;VALUE=DATE:20240314
DTSTAMP:20260425T231046
CREATED:20240311T192503Z
LAST-MODIFIED:20240311T192503Z
UID:1673-1710288000-1710374399@windermere20852.com
SUMMARY:Community Room Reserved
DESCRIPTION:The community room is reserved today!
URL:https://windermere20852.com/event/community-room-reserved-110/
LOCATION:Community Room\, 6360 Windermere Circle\, North Bethesda\, MD\, 20852\, United States
CATEGORIES:Community Room Reservation
END:VEVENT
BEGIN:VEVENT
DTSTART;VALUE=DATE:20240303
DTEND;VALUE=DATE:20240304
DTSTAMP:20260425T231046
CREATED:20240222T173832Z
LAST-MODIFIED:20240222T173832Z
UID:1632-1709424000-1709510399@windermere20852.com
SUMMARY:Community Room Reserved
DESCRIPTION:The community room is reserved today!
URL:https://windermere20852.com/event/community-room-reserved-106/
LOCATION:Community Room\, 6360 Windermere Circle\, North Bethesda\, MD\, 20852\, United States
CATEGORIES:Community Room Reservation
END:VEVENT
BEGIN:VEVENT
DTSTART;VALUE=DATE:20240225
DTEND;VALUE=DATE:20240226
DTSTAMP:20260425T231046
CREATED:20240111T163728Z
LAST-MODIFIED:20240111T163728Z
UID:1607-1708819200-1708905599@windermere20852.com
SUMMARY:Community Room Reserved
DESCRIPTION:The community room is reserved today!
URL:https://windermere20852.com/event/community-room-reserved-100/
LOCATION:Community Room\, 6360 Windermere Circle\, North Bethesda\, MD\, 20852\, United States
CATEGORIES:Community Room Reservation
END:VEVENT
BEGIN:VEVENT
DTSTART;VALUE=DATE:20240224
DTEND;VALUE=DATE:20240225
DTSTAMP:20260425T231046
CREATED:20240207T132114Z
LAST-MODIFIED:20240207T132114Z
UID:1619-1708732800-1708819199@windermere20852.com
SUMMARY:Community Room Reserved
DESCRIPTION:The community room is reserved today!
URL:https://windermere20852.com/event/community-room-reserved-103/
LOCATION:Community Room\, 6360 Windermere Circle\, North Bethesda\, MD\, 20852\, United States
CATEGORIES:Community Room Reservation
END:VEVENT
BEGIN:VEVENT
DTSTART;VALUE=DATE:20240223
DTEND;VALUE=DATE:20240224
DTSTAMP:20260425T231046
CREATED:20240116T162224Z
LAST-MODIFIED:20240116T162224Z
UID:1610-1708646400-1708732799@windermere20852.com
SUMMARY:Community Room Reserved
DESCRIPTION:The community room is reserved today!
URL:https://windermere20852.com/event/community-room-reserved-101/
LOCATION:Community Room\, 6360 Windermere Circle\, North Bethesda\, MD\, 20852\, United States
CATEGORIES:Community Room Reservation
END:VEVENT
BEGIN:VEVENT
DTSTART;TZID=America/New_York:20240215T193000
DTEND;TZID=America/New_York:20240215T210000
DTSTAMP:20260425T231046
CREATED:20231228T192606Z
LAST-MODIFIED:20231228T192615Z
UID:1565-1708025400-1708030800@windermere20852.com
SUMMARY:Board of Directors Meeting
DESCRIPTION:Details on how to participate in this meeting can be found in the Owner’s Portal.
URL:https://windermere20852.com/event/board-of-directors-meeting/
LOCATION:MD
CATEGORIES:Board of Directors Meeting
END:VEVENT
BEGIN:VEVENT
DTSTART;VALUE=DATE:20240211
DTEND;VALUE=DATE:20240212
DTSTAMP:20260425T231046
CREATED:20240129T163909Z
LAST-MODIFIED:20240129T163909Z
UID:1613-1707609600-1707695999@windermere20852.com
SUMMARY:Community Room Reserved
DESCRIPTION:The community room is reserved today!
URL:https://windermere20852.com/event/community-room-reserved-102/
LOCATION:Community Room\, 6360 Windermere Circle\, North Bethesda\, MD\, 20852\, United States
CATEGORIES:Community Room Reservation
END:VEVENT
BEGIN:VEVENT
DTSTART;VALUE=DATE:20240210
DTEND;VALUE=DATE:20240211
DTSTAMP:20260425T231046
CREATED:20231122T141033Z
LAST-MODIFIED:20231122T141033Z
UID:1518-1707523200-1707609599@windermere20852.com
SUMMARY:Community Room Reserved
DESCRIPTION:The community room is reserved today!
URL:https://windermere20852.com/event/community-room-reserved-89/
LOCATION:Community Room\, 6360 Windermere Circle\, North Bethesda\, MD\, 20852\, United States
CATEGORIES:Community Room Reservation
END:VEVENT
BEGIN:VEVENT
DTSTART;VALUE=DATE:20240204
DTEND;VALUE=DATE:20240205
DTSTAMP:20260425T231046
CREATED:20240108T175126Z
LAST-MODIFIED:20240108T175126Z
UID:1589-1707004800-1707091199@windermere20852.com
SUMMARY:Community Room Reserved
DESCRIPTION:The community room is reserved today!
URL:https://windermere20852.com/event/community-room-reserved-98/
LOCATION:Community Room\, 6360 Windermere Circle\, North Bethesda\, MD\, 20852\, United States
CATEGORIES:Community Room Reservation
END:VEVENT
BEGIN:VEVENT
DTSTART;VALUE=DATE:20240203
DTEND;VALUE=DATE:20240204
DTSTAMP:20260425T231046
CREATED:20231221T201916Z
LAST-MODIFIED:20231221T201916Z
UID:1531-1706918400-1707004799@windermere20852.com
SUMMARY:Community Room Reserved
DESCRIPTION:The community room is reserved today!
URL:https://windermere20852.com/event/community-room-reserved-94/
LOCATION:Community Room\, 6360 Windermere Circle\, North Bethesda\, MD\, 20852\, United States
CATEGORIES:Community Room Reservation
END:VEVENT
BEGIN:VEVENT
DTSTART;VALUE=DATE:20240128
DTEND;VALUE=DATE:20240129
DTSTAMP:20260425T231046
CREATED:20231129T212720Z
LAST-MODIFIED:20231129T212720Z
UID:1525-1706400000-1706486399@windermere20852.com
SUMMARY:Community Room Reserved
DESCRIPTION:The community room is reserved today!
URL:https://windermere20852.com/event/community-room-reserved-92/
LOCATION:Community Room\, 6360 Windermere Circle\, North Bethesda\, MD\, 20852\, United States
CATEGORIES:Community Room Reservation
END:VEVENT
BEGIN:VEVENT
DTSTART;VALUE=DATE:20240127
DTEND;VALUE=DATE:20240128
DTSTAMP:20260425T231046
CREATED:20240109T160144Z
LAST-MODIFIED:20240109T160144Z
UID:1605-1706313600-1706399999@windermere20852.com
SUMMARY:Community Room Reserved
DESCRIPTION:The community room is reserved today!
URL:https://windermere20852.com/event/community-room-reserved-99/
LOCATION:Community Room\, 6360 Windermere Circle\, North Bethesda\, MD\, 20852\, United States
CATEGORIES:Community Room Reservation
END:VEVENT
END:VCALENDAR