BEGIN:VCALENDAR
VERSION:2.0
PRODID:-//WINDERMERE - ECPv6.15.20//NONSGML v1.0//EN
CALSCALE:GREGORIAN
METHOD:PUBLISH
X-WR-CALNAME:WINDERMERE
X-ORIGINAL-URL:https://windermere20852.com
X-WR-CALDESC:Events for WINDERMERE
REFRESH-INTERVAL;VALUE=DURATION:PT1H
X-Robots-Tag:noindex
X-PUBLISHED-TTL:PT1H
BEGIN:VTIMEZONE
TZID:America/New_York
BEGIN:DAYLIGHT
TZOFFSETFROM:-0500
TZOFFSETTO:-0400
TZNAME:EDT
DTSTART:20240310T070000
END:DAYLIGHT
BEGIN:STANDARD
TZOFFSETFROM:-0400
TZOFFSETTO:-0500
TZNAME:EST
DTSTART:20241103T060000
END:STANDARD
BEGIN:DAYLIGHT
TZOFFSETFROM:-0500
TZOFFSETTO:-0400
TZNAME:EDT
DTSTART:20250309T070000
END:DAYLIGHT
BEGIN:STANDARD
TZOFFSETFROM:-0400
TZOFFSETTO:-0500
TZNAME:EST
DTSTART:20251102T060000
END:STANDARD
BEGIN:DAYLIGHT
TZOFFSETFROM:-0500
TZOFFSETTO:-0400
TZNAME:EDT
DTSTART:20260308T070000
END:DAYLIGHT
BEGIN:STANDARD
TZOFFSETFROM:-0400
TZOFFSETTO:-0500
TZNAME:EST
DTSTART:20261101T060000
END:STANDARD
END:VTIMEZONE
BEGIN:VEVENT
DTSTART;VALUE=DATE:20250506
DTEND;VALUE=DATE:20250507
DTSTAMP:20260425T063328
CREATED:20250425T221607Z
LAST-MODIFIED:20250425T221607Z
UID:2000-1746489600-1746575999@windermere20852.com
SUMMARY:Community Room Reserved
DESCRIPTION:The community room is reserved today!
URL:https://windermere20852.com/event/community-room-reserved-198/
LOCATION:Community Room\, 6360 Windermere Circle\, North Bethesda\, MD\, 20852\, United States
CATEGORIES:Community Room Reservation
END:VEVENT
BEGIN:VEVENT
DTSTART;VALUE=DATE:20250509
DTEND;VALUE=DATE:20250510
DTSTAMP:20260425T063328
CREATED:20250505T215618Z
LAST-MODIFIED:20250505T215618Z
UID:2003-1746748800-1746835199@windermere20852.com
SUMMARY:Community Room Reserved
DESCRIPTION:The community room is reserved today!
URL:https://windermere20852.com/event/community-room-reserved-199/
LOCATION:Community Room\, 6360 Windermere Circle\, North Bethesda\, MD\, 20852\, United States
CATEGORIES:Community Room Reservation
END:VEVENT
BEGIN:VEVENT
DTSTART;VALUE=DATE:20250510
DTEND;VALUE=DATE:20250511
DTSTAMP:20260425T063328
CREATED:20250318T201556Z
LAST-MODIFIED:20250318T201556Z
UID:1971-1746835200-1746921599@windermere20852.com
SUMMARY:Community Room Reserved
DESCRIPTION:The community room is reserved today!
URL:https://windermere20852.com/event/community-room-reserved-188/
LOCATION:Community Room\, 6360 Windermere Circle\, North Bethesda\, MD\, 20852\, United States
CATEGORIES:Community Room Reservation
END:VEVENT
BEGIN:VEVENT
DTSTART;VALUE=DATE:20250516
DTEND;VALUE=DATE:20250517
DTSTAMP:20260425T063328
CREATED:20250421T133952Z
LAST-MODIFIED:20250421T133952Z
UID:1991-1747353600-1747439999@windermere20852.com
SUMMARY:Community Room Reserved
DESCRIPTION:The community room is reserved today!
URL:https://windermere20852.com/event/community-room-reserved-195/
LOCATION:Community Room\, 6360 Windermere Circle\, North Bethesda\, MD\, 20852\, United States
CATEGORIES:Community Room Reservation
END:VEVENT
BEGIN:VEVENT
DTSTART;VALUE=DATE:20250517
DTEND;VALUE=DATE:20250518
DTSTAMP:20260425T063328
CREATED:20250421T134013Z
LAST-MODIFIED:20250421T134013Z
UID:1995-1747440000-1747526399@windermere20852.com
SUMMARY:Community Room Reserved
DESCRIPTION:The community room is reserved today!
URL:https://windermere20852.com/event/community-room-reserved-196/
LOCATION:Community Room\, 6360 Windermere Circle\, North Bethesda\, MD\, 20852\, United States
CATEGORIES:Community Room Reservation
END:VEVENT
BEGIN:VEVENT
DTSTART;VALUE=DATE:20250518
DTEND;VALUE=DATE:20250519
DTSTAMP:20260425T063328
CREATED:20250407T171947Z
LAST-MODIFIED:20250407T171947Z
UID:1979-1747526400-1747612799@windermere20852.com
SUMMARY:Community Room Reserved
DESCRIPTION:The community room is reserved today!
URL:https://windermere20852.com/event/community-room-reserved-191/
LOCATION:Community Room\, 6360 Windermere Circle\, North Bethesda\, MD\, 20852\, United States
CATEGORIES:Community Room Reservation
END:VEVENT
BEGIN:VEVENT
DTSTART;VALUE=DATE:20250524
DTEND;VALUE=DATE:20250525
DTSTAMP:20260425T063328
CREATED:20250421T134026Z
LAST-MODIFIED:20250421T134026Z
UID:1997-1748044800-1748131199@windermere20852.com
SUMMARY:Community Room Reserved
DESCRIPTION:The community room is reserved today!
URL:https://windermere20852.com/event/community-room-reserved-197/
LOCATION:Community Room\, 6360 Windermere Circle\, North Bethesda\, MD\, 20852\, United States
CATEGORIES:Community Room Reservation
END:VEVENT
BEGIN:VEVENT
DTSTART;VALUE=DATE:20250531
DTEND;VALUE=DATE:20250601
DTSTAMP:20260425T063328
CREATED:20250329T155048Z
LAST-MODIFIED:20250329T155048Z
UID:1976-1748649600-1748735999@windermere20852.com
SUMMARY:Community Room Reserved
DESCRIPTION:The community room is reserved today!
URL:https://windermere20852.com/event/community-room-reserved-190/
LOCATION:Community Room\, 6360 Windermere Circle\, North Bethesda\, MD\, 20852\, United States
CATEGORIES:Community Room Reservation
END:VEVENT
END:VCALENDAR