BEGIN:VCALENDAR
VERSION:2.0
PRODID:-//WINDERMERE - ECPv6.15.20//NONSGML v1.0//EN
CALSCALE:GREGORIAN
METHOD:PUBLISH
X-ORIGINAL-URL:https://windermere20852.com
X-WR-CALDESC:Events for WINDERMERE
REFRESH-INTERVAL;VALUE=DURATION:PT1H
X-Robots-Tag:noindex
X-PUBLISHED-TTL:PT1H
BEGIN:VTIMEZONE
TZID:America/New_York
BEGIN:DAYLIGHT
TZOFFSETFROM:-0500
TZOFFSETTO:-0400
TZNAME:EDT
DTSTART:20240310T070000
END:DAYLIGHT
BEGIN:STANDARD
TZOFFSETFROM:-0400
TZOFFSETTO:-0500
TZNAME:EST
DTSTART:20241103T060000
END:STANDARD
BEGIN:DAYLIGHT
TZOFFSETFROM:-0500
TZOFFSETTO:-0400
TZNAME:EDT
DTSTART:20250309T070000
END:DAYLIGHT
BEGIN:STANDARD
TZOFFSETFROM:-0400
TZOFFSETTO:-0500
TZNAME:EST
DTSTART:20251102T060000
END:STANDARD
BEGIN:DAYLIGHT
TZOFFSETFROM:-0500
TZOFFSETTO:-0400
TZNAME:EDT
DTSTART:20260308T070000
END:DAYLIGHT
BEGIN:STANDARD
TZOFFSETFROM:-0400
TZOFFSETTO:-0500
TZNAME:EST
DTSTART:20261101T060000
END:STANDARD
END:VTIMEZONE
BEGIN:VEVENT
DTSTART;VALUE=DATE:20250125
DTEND;VALUE=DATE:20250126
DTSTAMP:20260425T122347
CREATED:20241211T201619Z
LAST-MODIFIED:20241211T201619Z
UID:1908-1737763200-1737849599@windermere20852.com
SUMMARY:Community Room Reserved
DESCRIPTION:The community room is reserved today!
URL:https://windermere20852.com/event/community-room-reserved-171/
LOCATION:Community Room\, 6360 Windermere Circle\, North Bethesda\, MD\, 20852\, United States
CATEGORIES:Community Room Reservation
END:VEVENT
BEGIN:VEVENT
DTSTART;VALUE=DATE:20250126
DTEND;VALUE=DATE:20250127
DTSTAMP:20260425T122347
CREATED:20241211T201634Z
LAST-MODIFIED:20241211T201634Z
UID:1910-1737849600-1737935999@windermere20852.com
SUMMARY:Community Room Reserved
DESCRIPTION:The community room is reserved today!
URL:https://windermere20852.com/event/community-room-reserved-172/
LOCATION:Community Room\, 6360 Windermere Circle\, North Bethesda\, MD\, 20852\, United States
CATEGORIES:Community Room Reservation
END:VEVENT
END:VCALENDAR