BEGIN:VCALENDAR
VERSION:2.0
PRODID:-//WINDERMERE - ECPv6.15.20//NONSGML v1.0//EN
CALSCALE:GREGORIAN
METHOD:PUBLISH
X-ORIGINAL-URL:https://windermere20852.com
X-WR-CALDESC:Events for WINDERMERE
REFRESH-INTERVAL;VALUE=DURATION:PT1H
X-Robots-Tag:noindex
X-PUBLISHED-TTL:PT1H
BEGIN:VTIMEZONE
TZID:America/New_York
BEGIN:DAYLIGHT
TZOFFSETFROM:-0500
TZOFFSETTO:-0400
TZNAME:EDT
DTSTART:20230312T070000
END:DAYLIGHT
BEGIN:STANDARD
TZOFFSETFROM:-0400
TZOFFSETTO:-0500
TZNAME:EST
DTSTART:20231105T060000
END:STANDARD
BEGIN:DAYLIGHT
TZOFFSETFROM:-0500
TZOFFSETTO:-0400
TZNAME:EDT
DTSTART:20240310T070000
END:DAYLIGHT
BEGIN:STANDARD
TZOFFSETFROM:-0400
TZOFFSETTO:-0500
TZNAME:EST
DTSTART:20241103T060000
END:STANDARD
BEGIN:DAYLIGHT
TZOFFSETFROM:-0500
TZOFFSETTO:-0400
TZNAME:EDT
DTSTART:20250309T070000
END:DAYLIGHT
BEGIN:STANDARD
TZOFFSETFROM:-0400
TZOFFSETTO:-0500
TZNAME:EST
DTSTART:20251102T060000
END:STANDARD
END:VTIMEZONE
BEGIN:VEVENT
DTSTART;VALUE=DATE:20240602
DTEND;VALUE=DATE:20240603
DTSTAMP:20260425T231831
CREATED:20240509T141758Z
LAST-MODIFIED:20240509T141758Z
UID:1731-1717286400-1717372799@windermere20852.com
SUMMARY:Community Room Reserved
DESCRIPTION:The community room is reserved today!
URL:https://windermere20852.com/event/community-room-reserved-124/
LOCATION:Community Room\, 6360 Windermere Circle\, North Bethesda\, MD\, 20852\, United States
CATEGORIES:Community Room Reservation
END:VEVENT
BEGIN:VEVENT
DTSTART;VALUE=DATE:20240608
DTEND;VALUE=DATE:20240609
DTSTAMP:20260425T231831
CREATED:20240429T212318Z
LAST-MODIFIED:20240429T212318Z
UID:1718-1717804800-1717891199@windermere20852.com
SUMMARY:Community Room Reserved
DESCRIPTION:The community room is reserved today!
URL:https://windermere20852.com/event/community-room-reserved-125/
LOCATION:Community Room\, 6360 Windermere Circle\, North Bethesda\, MD\, 20852\, United States
CATEGORIES:Community Room Reservation
END:VEVENT
BEGIN:VEVENT
DTSTART;VALUE=DATE:20240609
DTEND;VALUE=DATE:20240610
DTSTAMP:20260425T231831
CREATED:20240429T185417Z
LAST-MODIFIED:20240429T185417Z
UID:1713-1717891200-1717977599@windermere20852.com
SUMMARY:Community Room Reserved
DESCRIPTION:The community room is reserved today!
URL:https://windermere20852.com/event/community-room-reserved-123/
LOCATION:Community Room\, 6360 Windermere Circle\, North Bethesda\, MD\, 20852\, United States
CATEGORIES:Community Room Reservation
END:VEVENT
BEGIN:VEVENT
DTSTART;VALUE=DATE:20240614
DTEND;VALUE=DATE:20240615
DTSTAMP:20260425T231831
CREATED:20240613T150505Z
LAST-MODIFIED:20240613T150505Z
UID:1777-1718323200-1718409599@windermere20852.com
SUMMARY:Community Room Reserved
DESCRIPTION:The community room is reserved today!
URL:https://windermere20852.com/event/community-room-reserved-134/
LOCATION:Community Room\, 6360 Windermere Circle\, North Bethesda\, MD\, 20852\, United States
CATEGORIES:Community Room Reservation
END:VEVENT
BEGIN:VEVENT
DTSTART;VALUE=DATE:20240615
DTEND;VALUE=DATE:20240616
DTSTAMP:20260425T231831
CREATED:20240415T173139Z
LAST-MODIFIED:20240415T173139Z
UID:1697-1718409600-1718495999@windermere20852.com
SUMMARY:Community Room Reserved
DESCRIPTION:The community room is reserved today!
URL:https://windermere20852.com/event/community-room-reserved-119/
LOCATION:Community Room\, 6360 Windermere Circle\, North Bethesda\, MD\, 20852\, United States
CATEGORIES:Community Room Reservation
END:VEVENT
BEGIN:VEVENT
DTSTART;VALUE=DATE:20240629
DTEND;VALUE=DATE:20240630
DTSTAMP:20260425T231831
CREATED:20240514T205713Z
LAST-MODIFIED:20240514T205713Z
UID:1739-1719619200-1719705599@windermere20852.com
SUMMARY:Community Room Reserved
DESCRIPTION:The community room is reserved today!
URL:https://windermere20852.com/event/community-room-reserved-129/
LOCATION:Community Room\, 6360 Windermere Circle\, North Bethesda\, MD\, 20852\, United States
CATEGORIES:Community Room Reservation
END:VEVENT
END:VCALENDAR