BEGIN:VCALENDAR
VERSION:2.0
PRODID:-//WINDERMERE - ECPv6.15.20//NONSGML v1.0//EN
CALSCALE:GREGORIAN
METHOD:PUBLISH
X-ORIGINAL-URL:https://windermere20852.com
X-WR-CALDESC:Events for WINDERMERE
REFRESH-INTERVAL;VALUE=DURATION:PT1H
X-Robots-Tag:noindex
X-PUBLISHED-TTL:PT1H
BEGIN:VTIMEZONE
TZID:America/New_York
BEGIN:DAYLIGHT
TZOFFSETFROM:-0500
TZOFFSETTO:-0400
TZNAME:EDT
DTSTART:20210314T070000
END:DAYLIGHT
BEGIN:STANDARD
TZOFFSETFROM:-0400
TZOFFSETTO:-0500
TZNAME:EST
DTSTART:20211107T060000
END:STANDARD
BEGIN:DAYLIGHT
TZOFFSETFROM:-0500
TZOFFSETTO:-0400
TZNAME:EDT
DTSTART:20220313T070000
END:DAYLIGHT
BEGIN:STANDARD
TZOFFSETFROM:-0400
TZOFFSETTO:-0500
TZNAME:EST
DTSTART:20221106T060000
END:STANDARD
BEGIN:DAYLIGHT
TZOFFSETFROM:-0500
TZOFFSETTO:-0400
TZNAME:EDT
DTSTART:20230312T070000
END:DAYLIGHT
BEGIN:STANDARD
TZOFFSETFROM:-0400
TZOFFSETTO:-0500
TZNAME:EST
DTSTART:20231105T060000
END:STANDARD
BEGIN:DAYLIGHT
TZOFFSETFROM:-0500
TZOFFSETTO:-0400
TZNAME:EDT
DTSTART:20240310T070000
END:DAYLIGHT
BEGIN:STANDARD
TZOFFSETFROM:-0400
TZOFFSETTO:-0500
TZNAME:EST
DTSTART:20241103T060000
END:STANDARD
BEGIN:DAYLIGHT
TZOFFSETFROM:-0500
TZOFFSETTO:-0400
TZNAME:EDT
DTSTART:20250309T070000
END:DAYLIGHT
BEGIN:STANDARD
TZOFFSETFROM:-0400
TZOFFSETTO:-0500
TZNAME:EST
DTSTART:20251102T060000
END:STANDARD
BEGIN:DAYLIGHT
TZOFFSETFROM:-0500
TZOFFSETTO:-0400
TZNAME:EDT
DTSTART:20260308T070000
END:DAYLIGHT
BEGIN:STANDARD
TZOFFSETFROM:-0400
TZOFFSETTO:-0500
TZNAME:EST
DTSTART:20261101T060000
END:STANDARD
END:VTIMEZONE
BEGIN:VEVENT
DTSTART;TZID=America/New_York:20250410T193000
DTEND;TZID=America/New_York:20250410T210000
DTSTAMP:20260424T195229
CREATED:20241108T154140Z
LAST-MODIFIED:20241108T154140Z
UID:1885-1744313400-1744318800@windermere20852.com
SUMMARY:Board of Directors Meeting
DESCRIPTION:Details on how to participate in this meeting can be found in the Owner’s Portal.
URL:https://windermere20852.com/event/board-of-directors-meeting-7/
CATEGORIES:Board of Directors Meeting
END:VEVENT
BEGIN:VEVENT
DTSTART;TZID=America/New_York:20250213T193000
DTEND;TZID=America/New_York:20250213T210000
DTSTAMP:20260424T195229
CREATED:20241108T154112Z
LAST-MODIFIED:20241108T154112Z
UID:1883-1739475000-1739480400@windermere20852.com
SUMMARY:Board of Directors Meeting
DESCRIPTION:Details on how to participate in this meeting can be found in the Owner’s Portal.
URL:https://windermere20852.com/event/board-of-directors-meeting-6/
CATEGORIES:Board of Directors Meeting
END:VEVENT
BEGIN:VEVENT
DTSTART;TZID=America/New_York:20241107T193000
DTEND;TZID=America/New_York:20241107T210000
DTSTAMP:20260424T195229
CREATED:20231228T192846Z
LAST-MODIFIED:20231228T192846Z
UID:1575-1731007800-1731013200@windermere20852.com
SUMMARY:Board of Directors Meeting
DESCRIPTION:Details on how to participate in this meeting can be found in the Owner’s Portal.
URL:https://windermere20852.com/event/board-of-directors-meeting-5/
CATEGORIES:Board of Directors Meeting
END:VEVENT
BEGIN:VEVENT
DTSTART;TZID=America/New_York:20240905T193000
DTEND;TZID=America/New_York:20240905T210000
DTSTAMP:20260424T195229
CREATED:20231228T192832Z
LAST-MODIFIED:20231228T192832Z
UID:1573-1725564600-1725570000@windermere20852.com
SUMMARY:Board of Directors Meeting
DESCRIPTION:Details on how to participate in this meeting can be found in the Owner’s Portal.
URL:https://windermere20852.com/event/board-of-directors-meeting-4/
CATEGORIES:Board of Directors Meeting
END:VEVENT
BEGIN:VEVENT
DTSTART;TZID=America/New_York:20240711T193000
DTEND;TZID=America/New_York:20240711T210000
DTSTAMP:20260424T195229
CREATED:20231228T192812Z
LAST-MODIFIED:20231228T193504Z
UID:1571-1720726200-1720731600@windermere20852.com
SUMMARY:Board of Directors Meeting
DESCRIPTION:Details on how to participate in this meeting can be found in the Owner’s Portal.
URL:https://windermere20852.com/event/board-of-directors-meeting-3/
CATEGORIES:Board of Directors Meeting
END:VEVENT
BEGIN:VEVENT
DTSTART;TZID=America/New_York:20240516T193000
DTEND;TZID=America/New_York:20240516T210000
DTSTAMP:20260424T195229
CREATED:20231228T192743Z
LAST-MODIFIED:20231228T192743Z
UID:1569-1715887800-1715893200@windermere20852.com
SUMMARY:Annual Meeting
DESCRIPTION:Details on how to participate in this meeting can be found in the Owner’s Portal.
URL:https://windermere20852.com/event/annual-meeting-3/
CATEGORIES:Board of Directors Meeting
END:VEVENT
BEGIN:VEVENT
DTSTART;TZID=America/New_York:20240418T193000
DTEND;TZID=America/New_York:20240418T210000
DTSTAMP:20260424T195229
CREATED:20231228T192708Z
LAST-MODIFIED:20231228T192708Z
UID:1567-1713468600-1713474000@windermere20852.com
SUMMARY:Board of Directors Meeting
DESCRIPTION:Details on how to participate in this meeting can be found in the Owner’s Portal.
URL:https://windermere20852.com/event/board-of-directors-meeting-2/
CATEGORIES:Board of Directors Meeting
END:VEVENT
BEGIN:VEVENT
DTSTART;TZID=America/New_York:20240215T193000
DTEND;TZID=America/New_York:20240215T210000
DTSTAMP:20260424T195229
CREATED:20231228T192606Z
LAST-MODIFIED:20231228T192615Z
UID:1565-1708025400-1708030800@windermere20852.com
SUMMARY:Board of Directors Meeting
DESCRIPTION:Details on how to participate in this meeting can be found in the Owner’s Portal.
URL:https://windermere20852.com/event/board-of-directors-meeting/
CATEGORIES:Board of Directors Meeting
END:VEVENT
BEGIN:VEVENT
DTSTART;TZID=America/New_York:20231102T193000
DTEND;TZID=America/New_York:20231102T210000
DTSTAMP:20260424T195229
CREATED:20221122T035740Z
LAST-MODIFIED:20221122T035740Z
UID:1083-1698953400-1698958800@windermere20852.com
SUMMARY:Board of Directors Meeting and Budget Approval
DESCRIPTION:Details on how to participate in this meeting can be found in the Owner’s Portal.
URL:https://windermere20852.com/event/board-of-directors-meeting-nov2023/
CATEGORIES:Board of Directors Meeting
END:VEVENT
BEGIN:VEVENT
DTSTART;TZID=America/New_York:20230907T193000
DTEND;TZID=America/New_York:20230907T210000
DTSTAMP:20260424T195229
CREATED:20221122T035712Z
LAST-MODIFIED:20221122T035712Z
UID:1081-1694115000-1694120400@windermere20852.com
SUMMARY:Board of Directors Meeting and Budget Planning
DESCRIPTION:Details on how to participate in this meeting can be found in the Owner’s Portal.
URL:https://windermere20852.com/event/board-of-directors-meeting-sep2023/
CATEGORIES:Board of Directors Meeting
END:VEVENT
BEGIN:VEVENT
DTSTART;TZID=America/New_York:20230706T193000
DTEND;TZID=America/New_York:20230706T210000
DTSTAMP:20260424T195229
CREATED:20221122T035624Z
LAST-MODIFIED:20221122T035624Z
UID:1079-1688671800-1688677200@windermere20852.com
SUMMARY:Board of Directors Meeting
DESCRIPTION:Details on how to participate in this meeting can be found in the Owner’s Portal.
URL:https://windermere20852.com/event/board-of-directors-meeting-july2023/
CATEGORIES:Board of Directors Meeting
END:VEVENT
BEGIN:VEVENT
DTSTART;TZID=America/New_York:20230511T193000
DTEND;TZID=America/New_York:20230511T210000
DTSTAMP:20260424T195229
CREATED:20221122T035556Z
LAST-MODIFIED:20221122T035556Z
UID:1077-1683833400-1683838800@windermere20852.com
SUMMARY:Board of Directors Annual Meeting
DESCRIPTION:Details on how to participate in this meeting can be found in the Owner’s Portal.
URL:https://windermere20852.com/event/board-of-directors-meeting-may2023/
CATEGORIES:Board of Directors Meeting
END:VEVENT
BEGIN:VEVENT
DTSTART;TZID=America/New_York:20230413T193000
DTEND;TZID=America/New_York:20230413T210000
DTSTAMP:20260424T195229
CREATED:20221122T035530Z
LAST-MODIFIED:20221122T035530Z
UID:1075-1681414200-1681419600@windermere20852.com
SUMMARY:Board of Directors Meeting
DESCRIPTION:Details on how to participate in this meeting can be found in the Owner’s Portal.
URL:https://windermere20852.com/event/board-of-directors-meeting-apr2023/
CATEGORIES:Board of Directors Meeting
END:VEVENT
BEGIN:VEVENT
DTSTART;TZID=America/New_York:20230216T193000
DTEND;TZID=America/New_York:20230216T210000
DTSTAMP:20260424T195229
CREATED:20221122T035504Z
LAST-MODIFIED:20221122T035504Z
UID:1073-1676575800-1676581200@windermere20852.com
SUMMARY:Board of Directors Meeting
DESCRIPTION:Details on how to participate in this meeting can be found in the Owner’s Portal.
URL:https://windermere20852.com/event/board-of-directors-meeting-feb2023/
CATEGORIES:Board of Directors Meeting
END:VEVENT
BEGIN:VEVENT
DTSTART;TZID=America/New_York:20221103T193000
DTEND;TZID=America/New_York:20221103T210000
DTSTAMP:20260424T195229
CREATED:20220822T162413Z
LAST-MODIFIED:20220914T131813Z
UID:579-1667503800-1667509200@windermere20852.com
SUMMARY:Board of Directors Meeting & Budget Approval
DESCRIPTION:Details on how to participate in this meeting can be found in the Owner’s Portal.
URL:https://windermere20852.com/event/board-of-directors-meeting-budget-approval/
CATEGORIES:Board of Directors Meeting
END:VEVENT
BEGIN:VEVENT
DTSTART;TZID=America/New_York:20220908T193000
DTEND;TZID=America/New_York:20220908T210000
DTSTAMP:20260424T195229
CREATED:20220822T021926Z
LAST-MODIFIED:20220914T131803Z
UID:529-1662665400-1662670800@windermere20852.com
SUMMARY:Board of Directors Meeting & Budget Discussion
DESCRIPTION:Details on how to participate in this meeting can be found in the Owner’s Portal.
URL:https://windermere20852.com/event/board-of-directors-meeting-sept-2022/
CATEGORIES:Board of Directors Meeting
END:VEVENT
END:VCALENDAR